BEGIN:VCALENDAR
VERSION:2.0
PRODID:-//Morgantown - ECPv6.0.13.1//NONSGML v1.0//EN
CALSCALE:GREGORIAN
METHOD:PUBLISH
X-WR-CALNAME:Morgantown
X-ORIGINAL-URL:https://morgantown.in.gov
X-WR-CALDESC:Events for Morgantown
REFRESH-INTERVAL;VALUE=DURATION:PT1H
X-Robots-Tag:noindex
X-PUBLISHED-TTL:PT1H
BEGIN:VTIMEZONE
TZID:UTC
BEGIN:STANDARD
TZOFFSETFROM:+0000
TZOFFSETTO:+0000
TZNAME:UTC
DTSTART:20240101T000000
END:STANDARD
END:VTIMEZONE
BEGIN:VEVENT
DTSTART;TZID=UTC:20240212T180000
DTEND;TZID=UTC:20240212T193000
DTSTAMP:20260420T001033
CREATED:20240205T190119Z
LAST-MODIFIED:20240205T191738Z
UID:3382-1707760800-1707766200@morgantown.in.gov
SUMMARY:Public Hearing on Proposed Rates & Charges of the the Town of Morgantown Sewage Works and Water Utility
DESCRIPTION:When: February 12\, 2024 \nTime: 6:00 PM \nWhere: Morgantown Fire Station; 269 Highland St. Morgantown\, IN. \nWho: The Morgantown Town Council will hold a public hearing to consider increases in rates and charges to the Sewage Works and Water Utility \nAttendees: Users of and owners of property served or to be served by the Town of Morgantown sewage works and water utility\, and other interested parties may appear and be heard at the public hearing. \nCOPY OF PROPOSED RATES AND CHARGES FOR WATER AND WASTEWATER FUNDS
URL:https://morgantown.in.gov/event/public-hearing-on-proposed-rates-changes-of-the-the-town-of-morgantown-sewage-works-and-water-utility/
LOCATION:269 N. Highland St. Morgantown\, IN.\, 269 N Highland St\, Morgantown\, IN\, 46160\, United States
END:VEVENT
END:VCALENDAR